BEGIN:VCALENDAR
VERSION:2.0
PRODID:-//Cumberland Golf Club - ECPv6.15.18//NONSGML v1.0//EN
CALSCALE:GREGORIAN
METHOD:PUBLISH
X-WR-CALNAME:Cumberland Golf Club
X-ORIGINAL-URL:https://www.cumberlandgolfclub.com
X-WR-CALDESC:Events for Cumberland Golf Club
REFRESH-INTERVAL;VALUE=DURATION:PT1H
X-Robots-Tag:noindex
X-PUBLISHED-TTL:PT1H
BEGIN:VTIMEZONE
TZID:UTC
BEGIN:STANDARD
TZOFFSETFROM:+0000
TZOFFSETTO:+0000
TZNAME:UTC
DTSTART:20240101T000000
END:STANDARD
END:VTIMEZONE
BEGIN:VEVENT
DTSTART;TZID=UTC:20250512T150000
DTEND;TZID=UTC:20250512T190000
DTSTAMP:20260421T162213
CREATED:20250408T000229Z
LAST-MODIFIED:20250408T000229Z
UID:10000330-1747062000-1747076400@www.cumberlandgolfclub.com
SUMMARY:Mens League Start Day
DESCRIPTION:
URL:https://www.cumberlandgolfclub.com/event/mens-league-start-day/
END:VEVENT
BEGIN:VEVENT
DTSTART;TZID=UTC:20250514T190000
DTEND;TZID=UTC:20250514T200000
DTSTAMP:20260421T162213
CREATED:20230410T102543Z
LAST-MODIFIED:20250501T123742Z
UID:10000003-1747249200-1747252800@www.cumberlandgolfclub.com
SUMMARY:Annual Membership/Board Meeting at clubhouse
DESCRIPTION:All members are welcome to the first meeting of the new season. Please bring any questions you may have regarding the golf course and/or membership. We will also be voting one new board member. If you would like to be part of the Cumberland Golf Club board\, inform any current member so we can get you on the ballot.
URL:https://www.cumberlandgolfclub.com/event/may-17-annual-membership-board-meeting-at-700-in-clubhouse/
END:VEVENT
BEGIN:VEVENT
DTSTART;TZID=UTC:20250520T093000
DTEND;TZID=UTC:20250520T143000
DTSTAMP:20260421T162213
CREATED:20240312T222313Z
LAST-MODIFIED:20250501T123927Z
UID:10000311-1747733400-1747751400@www.cumberlandgolfclub.com
SUMMARY:Cumberland High School Conference
DESCRIPTION:High School Conference golf tournament hosted by Cumberland Golf Club. Approximately 60 golfers with a shotgun start at 9:30 am. All 18 holes will be utilized. Course will be closed until approximately 2:30 pm.
URL:https://www.cumberlandgolfclub.com/event/cumberland-high-school-invitational/
END:VEVENT
BEGIN:VEVENT
DTSTART;TZID=UTC:20250520T140000
DTEND;TZID=UTC:20250520T170000
DTSTAMP:20260421T162213
CREATED:20240424T210520Z
LAST-MODIFIED:20250501T124017Z
UID:10000321-1747749600-1747760400@www.cumberlandgolfclub.com
SUMMARY:Ladies League Official Opener
DESCRIPTION:The Cumberland Ladies League officially starts the 2025 season with a 4 person 9-hole scramble. It is a shotgun start at 2:00 pm. with a meeting and dinner to follow. All members of the Ladies League are encouraged to sign up.
URL:https://www.cumberlandgolfclub.com/event/ladies-league-official-opener/
END:VEVENT
END:VCALENDAR