BEGIN:VCALENDAR
VERSION:2.0
PRODID:-//Cumberland Golf Club - ECPv6.15.18//NONSGML v1.0//EN
CALSCALE:GREGORIAN
METHOD:PUBLISH
X-WR-CALNAME:Cumberland Golf Club
X-ORIGINAL-URL:https://www.cumberlandgolfclub.com
X-WR-CALDESC:Events for Cumberland Golf Club
REFRESH-INTERVAL;VALUE=DURATION:PT1H
X-Robots-Tag:noindex
X-PUBLISHED-TTL:PT1H
BEGIN:VTIMEZONE
TZID:UTC
BEGIN:STANDARD
TZOFFSETFROM:+0000
TZOFFSETTO:+0000
TZNAME:UTC
DTSTART:20240101T000000
END:STANDARD
END:VTIMEZONE
BEGIN:VEVENT
DTSTART;TZID=UTC:20250803T090000
DTEND;TZID=UTC:20250803T140000
DTSTAMP:20260421T204714
CREATED:20240711T200202Z
LAST-MODIFIED:20250501T130444Z
UID:10000326-1754211600-1754229600@www.cumberlandgolfclub.com
SUMMARY:Cumberland Football Association
DESCRIPTION:Scramble format with a shotgun at 9 am. \n18 holes
URL:https://www.cumberlandgolfclub.com/event/cumberland-football-association/
END:VEVENT
BEGIN:VEVENT
DTSTART;TZID=UTC:20250813T074500
DTEND;TZID=UTC:20250813T150000
DTSTAMP:20260421T204714
CREATED:20230410T105038Z
LAST-MODIFIED:20250310T192140Z
UID:10000043-1755071100-1755097200@www.cumberlandgolfclub.com
SUMMARY:9th Annual CHIX Invitational
DESCRIPTION:18 Hole 4 Person Team Scramble – No Handicap required! \nSpace is Limited!! \nShotgun start at 9:00 am – Rain or Shine! \nCost Includes: \n\nContinental Breakfast and Bag Lunch\nFree range balls and shuttle service to driving range (7:45 am)\nGreen fees & complimentary golf cart\n5 Mulligans per team to use however you choose\nGolf club bag assistance courtesy of our Fabulous Bag Boys\n\n 
URL:https://www.cumberlandgolfclub.com/event/ladies-league-august-16-no-league-play-chix-invitational/
END:VEVENT
BEGIN:VEVENT
DTSTART;VALUE=DATE:20250817
DTEND;VALUE=DATE:20250818
DTSTAMP:20260421T204714
CREATED:20230807T204757Z
LAST-MODIFIED:20250731T144737Z
UID:10000308-1755388800-1755475199@www.cumberlandgolfclub.com
SUMMARY:Rutabaga Scramble
DESCRIPTION:3 Person Teams | Maximum 36 Teams \n\nShotgun 9am\, 18 holes\nAll team members must submit USGA or WSGA handicap or information allowing verification\nMust use 3 drives from each player\n18 years of age older – not in high school\nTwo teams play together and keep each other’s score\nMinimum team handicap of 32.0 with index as of August 1st\, 2025. Index will be used to determine handicap based on tee box played\nShootout qualification\, Hole 17\n\n  \nInformational Flyer
URL:https://www.cumberlandgolfclub.com/event/rutabaga-scramble/
END:VEVENT
BEGIN:VEVENT
DTSTART;TZID=UTC:20250820T120000
DTEND;TZID=UTC:20250820T150000
DTSTAMP:20260421T204714
CREATED:20250615T132243Z
LAST-MODIFIED:20250615T132243Z
UID:10000333-1755691200-1755702000@www.cumberlandgolfclub.com
SUMMARY:American Legion
DESCRIPTION:Tee Times
URL:https://www.cumberlandgolfclub.com/event/american-legion/
END:VEVENT
BEGIN:VEVENT
DTSTART;TZID=UTC:20250822T130000
DTEND;TZID=UTC:20250822T150000
DTSTAMP:20260421T204714
CREATED:20250501T131319Z
LAST-MODIFIED:20250501T131319Z
UID:10000331-1755867600-1755874800@www.cumberlandgolfclub.com
SUMMARY:Mary Defoe Class Reunion
DESCRIPTION:9 Holes \nGolf will only be on the front nine.
URL:https://www.cumberlandgolfclub.com/event/mary-defoe-class-reunion/
END:VEVENT
BEGIN:VEVENT
DTSTART;TZID=UTC:20250825T063000
DTEND;TZID=UTC:20250825T170000
DTSTAMP:20260421T204714
CREATED:20230410T102941Z
LAST-MODIFIED:20250501T130750Z
UID:10000011-1756103400-1756141200@www.cumberlandgolfclub.com
SUMMARY:Northlakes Golf Association
DESCRIPTION:Tee Times 6:30 am – 1:30 pm \n18 Holes
URL:https://www.cumberlandgolfclub.com/event/august-28-northlakes-golf-association/
END:VEVENT
END:VCALENDAR