BEGIN:VCALENDAR
VERSION:2.0
PRODID:-//Cumberland Golf Club - ECPv6.15.18//NONSGML v1.0//EN
CALSCALE:GREGORIAN
METHOD:PUBLISH
X-WR-CALNAME:Cumberland Golf Club
X-ORIGINAL-URL:https://www.cumberlandgolfclub.com
X-WR-CALDESC:Events for Cumberland Golf Club
REFRESH-INTERVAL;VALUE=DURATION:PT1H
X-Robots-Tag:noindex
X-PUBLISHED-TTL:PT1H
BEGIN:VTIMEZONE
TZID:UTC
BEGIN:STANDARD
TZOFFSETFROM:+0000
TZOFFSETTO:+0000
TZNAME:UTC
DTSTART:20240101T000000
END:STANDARD
END:VTIMEZONE
BEGIN:VEVENT
DTSTART;TZID=UTC:20250902T020000
DTEND;TZID=UTC:20250902T190000
DTSTAMP:20260421T184852
CREATED:20250501T131543Z
LAST-MODIFIED:20250501T131543Z
UID:10000332-1756778400-1756839600@www.cumberlandgolfclub.com
SUMMARY:Ladies League Awards Night
DESCRIPTION:End of season 4 person scramble\, Nine holes\, front only \nDinner\, meeting\, awards and elections of officers will follow golf.
URL:https://www.cumberlandgolfclub.com/event/ladies-league-awards-night/
END:VEVENT
BEGIN:VEVENT
DTSTART;TZID=UTC:20250906T093000
DTEND;TZID=UTC:20250907T140000
DTSTAMP:20260421T184852
CREATED:20240312T223122Z
LAST-MODIFIED:20250501T130712Z
UID:10000319-1757151000-1757253600@www.cumberlandgolfclub.com
SUMMARY:Greater Greener
DESCRIPTION:Two Day Event – 18 Holes \nTee times 9:30 – 11:00 am
URL:https://www.cumberlandgolfclub.com/event/greater-greener/
END:VEVENT
BEGIN:VEVENT
DTSTART;TZID=UTC:20250907T080000
DTEND;TZID=UTC:20250907T170000
DTSTAMP:20260421T184852
CREATED:20240528T121106Z
LAST-MODIFIED:20250710T193027Z
UID:10000324-1757232000-1757264400@www.cumberlandgolfclub.com
SUMMARY:2025 Cumberland Golf Club Tournament
DESCRIPTION:1st\, 2nd & 3rd place prizes awarded for Low Gross and Low Net Score\nCost: $25; Sign up and pay by 6:00 pm Thursday\, September 4th\nMembers under the age of 18 are encouraged to play\n\nMen’s Championship (Blue Tees) \n\n18 Hole qualifying begins 8:00 am Saturday\, September 6th.\nLow 11 qualifiers plus 2024 Champion will play Sunday\, September  7th.\nScores will be cumulative for 36 holes\nPlayers who do not qualify will be placed in the First Flight on Sunday.\n\nWomens (Gold Tees)\, Senior (60+ – Combo Tees)\, Mens 1st Flight (White Tees) \n\n18 hole medal play Sunday\, September 7th\nPlay begins 8:00 am. Tee times will be posted Thursday evening. Participants should allow time to check-in and warm up.\n\n*Mens championship is Low Gross Only. \nClick to access 2025-Club-Tournament-Flyer.pdf \n 
URL:https://www.cumberlandgolfclub.com/event/club-championship-2/
END:VEVENT
BEGIN:VEVENT
DTSTART;TZID=UTC:20250913T080000
DTEND;TZID=UTC:20250913T140000
DTSTAMP:20260421T184852
CREATED:20240528T121325Z
LAST-MODIFIED:20250501T130901Z
UID:10000325-1757750400-1757772000@www.cumberlandgolfclub.com
SUMMARY:Steve Ranallo Memorial Golf Benefit
DESCRIPTION:18 Hole Best Ball Scramble \n\n4 Player Teams\n$65 per person ($35 Cumberland Golf Club members); Cost includes green fees\, cart\, flag event and burger\nTee Times 8 am – 11 am\nPrizes for 1st\, 7th\, and 2nd to last\n18 Individual Flag Prizes\nCall for reservations: 715-+822-4333\n1/2 of all proceeds will go to Jack Jablonski Foundation to help fund medical research to advance the treatment of paralysis recovery.\n1/2 of all proceeds will got to Cumberland Community Cares
URL:https://www.cumberlandgolfclub.com/event/ranallo-golf-benefit/
END:VEVENT
BEGIN:VEVENT
DTSTART;TZID=UTC:20250913T110000
DTEND;TZID=UTC:20250913T170000
DTSTAMP:20260421T184852
CREATED:20240312T223222Z
LAST-MODIFIED:20250501T130927Z
UID:10000320-1757761200-1757782800@www.cumberlandgolfclub.com
SUMMARY:Camp Loud
DESCRIPTION:40 Golfers – 18 Holes \nTee times from 11:00 am – 12:30 pm
URL:https://www.cumberlandgolfclub.com/event/camp-loud/
END:VEVENT
END:VCALENDAR