BEGIN:VCALENDAR
VERSION:2.0
PRODID:-//Cumberland Golf Club - ECPv6.15.18//NONSGML v1.0//EN
CALSCALE:GREGORIAN
METHOD:PUBLISH
X-WR-CALNAME:Cumberland Golf Club
X-ORIGINAL-URL:https://www.cumberlandgolfclub.com
X-WR-CALDESC:Events for Cumberland Golf Club
REFRESH-INTERVAL;VALUE=DURATION:PT1H
X-Robots-Tag:noindex
X-PUBLISHED-TTL:PT1H
BEGIN:VTIMEZONE
TZID:UTC
BEGIN:STANDARD
TZOFFSETFROM:+0000
TZOFFSETTO:+0000
TZNAME:UTC
DTSTART:20250101T000000
END:STANDARD
END:VTIMEZONE
BEGIN:VEVENT
DTSTART;TZID=UTC:20260609T090000
DTEND;TZID=UTC:20260609T140000
DTSTAMP:20260421T122952
CREATED:20260320T030005Z
LAST-MODIFIED:20260320T030005Z
UID:10000338-1780995600-1781013600@www.cumberlandgolfclub.com
SUMMARY:Cumberland Healthcare
DESCRIPTION:Tee times from 9:00 AM – 2:00 PM
URL:https://www.cumberlandgolfclub.com/event/cumberland-healthcare-2/
END:VEVENT
BEGIN:VEVENT
DTSTART;TZID=UTC:20260610T130000
DTEND;TZID=UTC:20260610T170000
DTSTAMP:20260421T122952
CREATED:20260320T030107Z
LAST-MODIFIED:20260320T031742Z
UID:10000339-1781096400-1781110800@www.cumberlandgolfclub.com
SUMMARY:Cumberland Chamber
DESCRIPTION:Shotgun start off both 9’s at 1:00 PM
URL:https://www.cumberlandgolfclub.com/event/cumberland-chamber-outing/
END:VEVENT
BEGIN:VEVENT
DTSTART;TZID=UTC:20260622T080000
DTEND;TZID=UTC:20260622T200000
DTSTAMP:20260421T122952
CREATED:20260320T030420Z
LAST-MODIFIED:20260320T030441Z
UID:10000340-1782115200-1782158400@www.cumberlandgolfclub.com
SUMMARY:Taste in Cumberland
DESCRIPTION:Event to be held in Parking lot\, No golf.
URL:https://www.cumberlandgolfclub.com/event/taste-in-cumberland/
END:VEVENT
END:VCALENDAR