BEGIN:VCALENDAR
VERSION:2.0
PRODID:-//Cumberland Golf Club - ECPv6.15.18//NONSGML v1.0//EN
CALSCALE:GREGORIAN
METHOD:PUBLISH
X-WR-CALNAME:Cumberland Golf Club
X-ORIGINAL-URL:https://www.cumberlandgolfclub.com
X-WR-CALDESC:Events for Cumberland Golf Club
REFRESH-INTERVAL;VALUE=DURATION:PT1H
X-Robots-Tag:noindex
X-PUBLISHED-TTL:PT1H
BEGIN:VTIMEZONE
TZID:UTC
BEGIN:STANDARD
TZOFFSETFROM:+0000
TZOFFSETTO:+0000
TZNAME:UTC
DTSTART:20250101T000000
END:STANDARD
END:VTIMEZONE
BEGIN:VEVENT
DTSTART;TZID=UTC:20260802T090000
DTEND;TZID=UTC:20260802T170000
DTSTAMP:20260421T161635
CREATED:20260320T030851Z
LAST-MODIFIED:20260320T030851Z
UID:10000343-1785661200-1785690000@www.cumberlandgolfclub.com
SUMMARY:Cumberland Football Scramble
DESCRIPTION:Shotgun 9:00 AM\, both 9’s
URL:https://www.cumberlandgolfclub.com/event/cumberland-football-scramble/
END:VEVENT
BEGIN:VEVENT
DTSTART;TZID=UTC:20260812T080000
DTEND;TZID=UTC:20260812T170000
DTSTAMP:20260421T161635
CREATED:20260403T150902Z
LAST-MODIFIED:20260403T150902Z
UID:10000350-1786521600-1786554000@www.cumberlandgolfclub.com
SUMMARY:10th Annual CHIX Invitational
DESCRIPTION:8:00 AM Shotgun start\, Both 9’s
URL:https://www.cumberlandgolfclub.com/event/10th-annual-chix-invitational/
END:VEVENT
BEGIN:VEVENT
DTSTART;TZID=UTC:20260816T090000
DTEND;TZID=UTC:20260816T170000
DTSTAMP:20260421T161635
CREATED:20260320T030942Z
LAST-MODIFIED:20260320T030942Z
UID:10000344-1786870800-1786899600@www.cumberlandgolfclub.com
SUMMARY:Rutabaga Scramble
DESCRIPTION:Shotgun start off both 9’s\, 9:00 AM
URL:https://www.cumberlandgolfclub.com/event/rutabaga-scramble-2/
END:VEVENT
BEGIN:VEVENT
DTSTART;TZID=UTC:20260824T063000
DTEND;TZID=UTC:20260824T133000
DTSTAMP:20260421T161635
CREATED:20260320T031109Z
LAST-MODIFIED:20260320T031109Z
UID:10000345-1787553000-1787578200@www.cumberlandgolfclub.com
SUMMARY:Northlakes Golf Association
DESCRIPTION:Tee-times from 6:30 AM – 1:30 PM\, 18 holes
URL:https://www.cumberlandgolfclub.com/event/northlakes-golf-association/
END:VEVENT
END:VCALENDAR